BEGIN:VCALENDAR
PRODID:-//kirchenweb.ch gmbh//veranstaltungsausgabe v2.0//DE
VERSION:2.0
METHOD:PUBLISH
BEGIN:VEVENT
DTSTART:20260820T151500Z
DTEND:20260820T154500Z
LOCATION:Evangelisches Kirchgemeindehaus\, Romanshornerstr. 6\, 8580
  Amriswil
TRANSP:OPAQUE
SEQUENCE:0
UID:35079-veranstaltung@evang-amriswil.ch
DTSTAMP:20260408T144519Z
DESCRIPTION:Kontakt: Willy Ramazani\, Jugendarbeiter\n\nWeitere Infos:
  https://www.evang-amriswil.ch/veranstaltung/35079
SUMMARY:Jugendgottesdienst in Amriswil
PRIORITY:5
X-MICROSOFT-CDO-IMPORTANCE:1
CLASS:PUBLIC
END:VEVENT
END:VCALENDAR
