BEGIN:VCALENDAR
PRODID:-//kirchenweb.ch gmbh//veranstaltungsausgabe v2.0//DE
VERSION:2.0
METHOD:PUBLISH
BEGIN:VEVENT
DTSTART:20261113T183000Z
DTEND:20261113T225900Z
LOCATION:Ehemaliges Evang. Kirchgemeindehaus\, Romanshornerstr. 6\, 8580
  Amriswil
TRANSP:OPAQUE
SEQUENCE:0
UID:35080-veranstaltung@evang-amriswil.ch
DTSTAMP:20260408T150050Z
DESCRIPTION:Kontakt: Liliane Germann  (Sekretärin)\n\nWeitere Infos:
  https://www.evang-amriswil.ch/veranstaltung/35080
SUMMARY:Mitarbeiterabend
PRIORITY:5
X-MICROSOFT-CDO-IMPORTANCE:1
CLASS:PUBLIC
END:VEVENT
END:VCALENDAR
